BEGIN:VCALENDAR
VERSION:2.0
PRODID:-//hendrickscountycf.org//NONSGML kigkonsult.se iCalcreator 2.30.10/
 /
CALSCALE:GREGORIAN
METHOD:PUBLISH
UID:52371469-6207-440c-b302-3fbf3a70ba89
X-WR-CALDESC:Social Media for Nonprofits: The Basics
X-WR-RELCALID:a0a7f17b51871053ae1c398b61f25415
X-WR-TIMEZONE:America/New_York
BEGIN:VTIMEZONE
TZID:America/New_York
BEGIN:STANDARD
TZNAME:EST
DTSTART:20181104T020000
TZOFFSETFROM:-0400
TZOFFSETTO:-0500
RDATE:20191103T020000
END:STANDARD
BEGIN:DAYLIGHT
TZNAME:EDT
DTSTART:20190310T020000
TZOFFSETFROM:-0500
TZOFFSETTO:-0400
RDATE:20200308T020000
END:DAYLIGHT
END:VTIMEZONE
BEGIN:VEVENT
UID:485f56f9-aeb8-40a7-bfeb-47942eb948ec
DTSTAMP:20260425T132522Z
DESCRIPTION:Social Media for Nonprofits: The Basics
DTSTART;TZID=America/New_York:20190410T083000
DTEND;TZID=America/New_York:20190410T110000
LOCATION:4H Fairgrounds & Conference Complex
SUMMARY:Nonprofit Learning Series
END:VEVENT
END:VCALENDAR
