BEGIN:VCALENDAR
VERSION:2.0
PRODID:-//hendrickscountycf.org//NONSGML kigkonsult.se iCalcreator 2.30.10/
 /
CALSCALE:GREGORIAN
METHOD:PUBLISH
UID:ed60b1a7-ec74-4526-9d8f-8ab6ede78202
X-WR-CALDESC:
X-WR-RELCALID:5385c6620101c3af8de8f2a793fdba22
X-WR-TIMEZONE:America/New_York
BEGIN:VTIMEZONE
TZID:America/New_York
BEGIN:STANDARD
TZNAME:EST
DTSTART:20181104T020000
TZOFFSETFROM:-0400
TZOFFSETTO:-0500
RDATE:20191103T020000
END:STANDARD
BEGIN:DAYLIGHT
TZNAME:EDT
DTSTART:20190310T020000
TZOFFSETFROM:-0500
TZOFFSETTO:-0400
RDATE:20200308T020000
END:DAYLIGHT
END:VTIMEZONE
BEGIN:VEVENT
UID:c831a384-763f-419f-b1ab-c7d635082366
DTSTAMP:20260425T132538Z
DESCRIPTION:
DTSTART;TZID=America/New_York:20190423T173000
DTEND;TZID=America/New_York:20190423T190000
LOCATION:Avon Washington Township Park Pavilion
SUMMARY:HCCF Report to the Community
END:VEVENT
END:VCALENDAR
