BEGIN:VCALENDAR
VERSION:2.0
PRODID:-//hendrickscountycf.org//NONSGML kigkonsult.se iCalcreator 2.30.10/
 /
CALSCALE:GREGORIAN
METHOD:PUBLISH
UID:390c93de-4ed7-4d54-be5c-db869d20f0e1
X-WR-CALDESC:test test test test test
X-WR-RELCALID:20cc3272c37df8c74da6d0ec2a486434
X-WR-TIMEZONE:America/Chicago
BEGIN:VTIMEZONE
TZID:America/Chicago
BEGIN:STANDARD
TZNAME:CST
DTSTART:20231105T020000
TZOFFSETFROM:-0500
TZOFFSETTO:-0600
RDATE:20241103T020000
END:STANDARD
BEGIN:DAYLIGHT
TZNAME:CDT
DTSTART:20230312T020000
TZOFFSETFROM:-0600
TZOFFSETTO:-0500
RDATE:20240310T020000
RDATE:20250309T020000
END:DAYLIGHT
END:VTIMEZONE
BEGIN:VEVENT
UID:8fedbc1f-5f54-4cc6-ae4c-5b422d101783
DTSTAMP:20260421T134024Z
DESCRIPTION:test test test test test
DTSTART;TZID=America/Chicago:20240207T050000
DTEND;TZID=America/Chicago:20240207T050001
LOCATION:123 test\, lincoln \, NE 68503 US
SUMMARY:test
END:VEVENT
END:VCALENDAR
