BEGIN:VCALENDAR
VERSION:2.0
PRODID:-//hendrickscountycf.org//NONSGML kigkonsult.se iCalcreator 2.30.10/
 /
CALSCALE:GREGORIAN
METHOD:PUBLISH
UID:a4fccaaf-1009-4cd9-8e4f-33c4cee953df
X-WR-CALDESC:test test test test test
X-WR-RELCALID:bbf3095d0614924ec937703b008ce19a
X-WR-TIMEZONE:America/Chicago
BEGIN:VTIMEZONE
TZID:America/Chicago
BEGIN:STANDARD
TZNAME:CST
DTSTART:20231105T020000
TZOFFSETFROM:-0500
TZOFFSETTO:-0600
RDATE:20241103T020000
END:STANDARD
BEGIN:DAYLIGHT
TZNAME:CDT
DTSTART:20230312T020000
TZOFFSETFROM:-0600
TZOFFSETTO:-0500
RDATE:20240310T020000
RDATE:20250309T020000
END:DAYLIGHT
END:VTIMEZONE
BEGIN:VEVENT
UID:bd8f6f40-0cd7-4051-8a25-b3f428cffa32
DTSTAMP:20260421T134353Z
DESCRIPTION:test test test test test
DTSTART;TZID=America/Chicago:20240213T050000
DTEND;TZID=America/Chicago:20240215T050001
LOCATION:123 test\, lincoln \, NE 68503 US
SUMMARY:test
END:VEVENT
END:VCALENDAR
