BEGIN:VCALENDAR
VERSION:2.0
PRODID:-//hendrickscountycf.org//NONSGML kigkonsult.se iCalcreator 2.30.10/
 /
CALSCALE:GREGORIAN
METHOD:PUBLISH
UID:9c8cd1fb-904d-40cf-9315-84c188fa4a97
X-WR-CALDESC:This workshop will cover the historical mistreatment of indivi
 duals with disabilities has shaped society’s current perspective and bias\
 ; current statistics for people with disabilities\; reveal America’s biase
 s toward disability and show the impact of the intersectionality between t
 he largest marginality (disability) and other historically underserved com
 munities\; understand how people think about disability affects how they f
 eel about disability and how adapting new models and perspectives allows u
 s to imagine a more accessible and equitable society for all. \n
X-WR-RELCALID:24c1fb1e88e29c2d6eb995cc0cfd6d70
X-WR-TIMEZONE:America/New_York
BEGIN:VTIMEZONE
TZID:America/New_York
BEGIN:STANDARD
TZNAME:EST
DTSTART:20231105T020000
TZOFFSETFROM:-0400
TZOFFSETTO:-0500
RDATE:20241103T020000
RDATE:20251102T020000
END:STANDARD
BEGIN:DAYLIGHT
TZNAME:EDT
DTSTART:20240310T020000
TZOFFSETFROM:-0500
TZOFFSETTO:-0400
RDATE:20250309T020000
END:DAYLIGHT
END:VTIMEZONE
BEGIN:VEVENT
UID:f53a0dc3-608d-42d0-98a6-51bfce425a77
DTSTAMP:20260421T084248Z
DESCRIPTION:This workshop will cover the historical mistreatment of individ
 uals with disabilities has shaped society’s current perspective and bias\;
  current statistics for people with disabilities\; reveal America’s biases
  toward disability and show the impact of the intersectionality between th
 e largest marginality (disability) and other historically underserved comm
 unities\; understand how people think about disability affects how they fe
 el about disability and how adapting new models and perspectives allows us
  to imagine a more accessible and equitable society for all. \n
DTSTART;TZID=America/New_York:20240516T110000
DTEND;TZID=America/New_York:20240516T123000
LOCATION:Level Two Co Working \, 2498 Perry Crossing Way Suite 240\, Plainf
 ield\, IN\, IN 46168 US
SUMMARY:Beyond Ableism Toward Allyship
END:VEVENT
END:VCALENDAR
